BEGIN:VCALENDAR
VERSION:2.0
PRODID:-//Tukios.com/
BEGIN:VEVENT
UID:7bb4005d-bf14-463e-8845-17d7896cab2e@www.maxwelltobiefh.com
DTSTAMP:20260420T231524Z
DTSTART:20260423T170000Z
DTEND:20260423T180000Z
SUMMARY:Burial
DESCRIPTION:
URL:https://www.maxwelltobiefh.com/obituaries/shirley-johns
LOCATION: 110 Willets Ave  Eagleswood NJ 08092
GEO:39.6333324;-74.3109046
END:VEVENT
END:VCALENDAR