BEGIN:VCALENDAR
VERSION:2.0
PRODID:-//Tukios.com/
BEGIN:VEVENT
UID:d8c5c50b-4a75-4fc8-b606-91a14047296a@www.maxwelltobiefh.com
DTSTAMP:20260420T231525Z
DTSTART:20260423T160000Z
DTEND:20260423T170000Z
SUMMARY:Funeral Service
DESCRIPTION:
URL:https://www.maxwelltobiefh.com/obituaries/shirley-johns
LOCATION:Maxwell-Tobie Funeral Home 573 Mill Creek Road  Stafford 
	Township NJ 08050
GEO:39.6855319;-74.2417072
END:VEVENT
END:VCALENDAR