BEGIN:VCALENDAR
VERSION:2.0
PRODID:-//Tukios.com/
BEGIN:VEVENT
UID:cd53f5db-8572-444c-ad62-11f4903a4ad5@www.maxwelltobiefh.com
DTSTAMP:20260420T231401Z
DTSTART:20260423T130000Z
DTEND:20260423T160000Z
SUMMARY:Visitation
DESCRIPTION:
URL:https://www.maxwelltobiefh.com/obituaries/shirley-johns
LOCATION:Maxwell-Tobie Funeral Home 573 Mill Creek Road  Stafford 
	Township NJ 08050
GEO:39.6855319;-74.2417072
END:VEVENT
END:VCALENDAR