BEGIN:VCALENDAR
VERSION:2.0
PRODID:-//Tukios.com/
BEGIN:VEVENT
UID:ac28d8fc-d531-4c84-83e5-ff736e4cab52@www.maxwelltobiefh.com
DTSTAMP:20260421T174656Z
DTSTART:20260606T170000Z
DTEND:20260606T190000Z
SUMMARY:Visitation
DESCRIPTION:
URL:https://www.maxwelltobiefh.com/obituaries/jeffrey-bauer
LOCATION:Maxwell-Tobie Funeral Home 573 Mill Creek Road  Stafford 
	Township NJ 08050
GEO:39.6855319;-74.2417072
END:VEVENT
END:VCALENDAR