BEGIN:VCALENDAR
VERSION:2.0
PRODID:-//Tukios.com/
BEGIN:VEVENT
UID:f0f595ef-0d30-435b-b2b1-f66d823cad62@www.maxwelltobiefh.com
DTSTAMP:20260421T201614Z
DTSTART:20260502T200000Z
DTEND:20260502T210000Z
SUMMARY:Funeral Service
DESCRIPTION:
URL:https://www.maxwelltobiefh.com/obituaries/calvin-soden-jr
LOCATION:Maxwell-Tobie Funeral Home 573 Mill Creek Road  Stafford 
	Township NJ 08050
GEO:39.6855319;-74.2417072
END:VEVENT
END:VCALENDAR