BEGIN:VCALENDAR
VERSION:2.0
PRODID:-//Tukios.com/
BEGIN:VEVENT
UID:ce058bd0-830b-40f7-8753-7c343a926cc6@www.maxwelltobiefh.com
DTSTAMP:20260421T201134Z
DTSTART:20260502T170000Z
DTEND:20260502T200000Z
SUMMARY:Visitation
DESCRIPTION:
URL:https://www.maxwelltobiefh.com/obituaries/calvin-soden-jr
LOCATION:Maxwell-Tobie Funeral Home 573 Mill Creek Road  Stafford 
	Township NJ 08050
GEO:39.6855319;-74.2417072
END:VEVENT
END:VCALENDAR